Workbook
Name \A: #REF!
Name \B: #REF!
Name \C: #REF!
Name \D: #REF!
Name \E: #REF!
Name \I: #REF!
Name \P: #REF!
Name \R: #REF!
Name Entity_Type_List: #REF!
Name Legal_Status_List: #REF!
Name LoanTypes: #REF!
Name Yes_No_List: #REF!

Sheet Priority Level
A1: =#REF! -> #REF!
A2: =#REF! -> #REF!
A3: =#REF! -> #REF!
A5: ACTION PLAN PRIORITIES
A6: County
A9: PLEASE CHECK ALL THAT APPLY AND PROVIDE INFORMATION IN NARRATIVE
A10: Leverage - Funding from other sources
B11: Owner Equity (not including deferred developer fee)
B12: Other Grant Sources (non-Disaster)
A13: Anti-Displacement Efforts
B14: Project located in a neighborhood vulnerable to gentrification
B15: Project includes specific strategies to assist residents at risk of displacement
B16: Meaningful community engagement
A17: Supportive Housing
B18: Project includes units reserved for populations including residents with a disability, residents in need of permanent supportive housing, veterans, seniors, or large families
B19: Units are dedicated for persons experiencing homelessness
B20: Onsite resident services are being provided
A21: Preservation
B22: Project is preserving existing affordable housing (either income-restricted or unsubsidized)
B23: Project is preserving housing at risk of market-rate conversion
A24: Deeply Affordable
B25: Project meets the term sheet definition of Very Low Income: for 4% projects, 25% at 30% or 35% at 40% - for 9% projects, 35% at 30% or 45% at 40%
B26: Property has a project-based Section 8 contract or provides 10% unsubsidized 30% units
A27: Transit
B28: Project located within 1/4 mile of high frequency bus stop or 1/2 mile of fixed rail (with or without bus)
B29: Good pedestrian access to station/stop
B30: Resources & Amenities E.G., health care facility, a licensed child care facility, a primary school, a park or recreation center, a non-profit higher education institution, a workforce training center
B31: Full-service grocery store is located within 1/2 mile walk
B32: Other amenities within 1/2 mile walk:

Sheet Unit Mix and Rents
A1: Grand View Rental Housing
A2: Applicant Name
A4: UNIT MIX SUMMARY BY AMI (Autofilled with Unit Mix and Rents below)
A5: Unit Type | B5: 30% AMI | C5: 50% AMI | D5: 60% AMI | E5: 80% AMI | F5: MKT | G5: Total Units
A6: 1 bed | B6: =$C$14 -> 0 | C6: =$C$15 -> 0 | D6: =$C$16 -> 0 | E6: =$C$17 -> 0 | F6: =$C$14 -> 0 | G6: =SUM(B6:F6) -> 0
A7: 2 bed | B7: =$C$20 -> 0 | C7: =$C$21 -> 0 | D7: =$C$22 -> 0 | E7: =$C$23 -> 0 | F7: =$C$24 -> 0 | G7: =SUM(B7:F7) -> 0
A8: 3 bed | B8: =$C$26 -> 0 | C8: =$C$27 -> 0 | D8: =$C$28 -> 0 | E8: =$C$29 -> 0 | F8: =$C$30 -> 0 | G8: =SUM(B8:F8) -> 0
A9: 4 bed | B9: =$C$32 -> 0 | C9: =$C$33 -> 0 | D9: =$C$34 -> 0 | E9: =$C$35 -> 0 | F9: =$C$36 -> 0 | G9: =SUM(B9:F9) -> 0
A10: Total Units by AMI | B10: =SUM(B6:B9) -> 0 | C10: =SUM(C6:C9) -> 0 | D10: =SUM(D6:D9) -> 0 | E10: =SUM(E6:E9) -> 0 | F10: =SUM(F6:F9) -> 0 | G10: =SUM(G6:G9) -> 0
A12: UNIT MIX AND RENTS (Revise as needed)
A13: Unit Type | B13: AMI Level | C13: Total Units | D13: Monthly Gross Rent | E13: Utility Allowance | F13: Monthly Net Rent | G13: Annual Rent
A14: 1 bed/1 bath | B14: 0.3 | F14: =D14-E14 -> 0 | G14: =F14*C14 -> 0
A15: 1 bed/1 bath | B15: 0.5 | F15: =D15-E15 -> 0 | G15: =F15*C15 -> 0
A16: 1 bed/1 bath | B16: 0.6 | F16: =D16-E16 -> 0 | G16: =F16*C16 -> 0
A17: 1 bed/1 bath | B17: 0.8 | F17: =D17-E17 -> 0 | G17: =F17*C17 -> 0
A18: 1 bed/1 bath | B18: MKT | F18: =D18-E18 -> 0 | G18: =F18*C18 -> 0
A19: Total 1 BR | C19: =SUM(C14:C18) -> 0 | F19: =SUM(F14:F18) -> 0 | G19: =SUM(G14:G18) -> 0
A20: 2 bed/1 bath | B20: 0.3 | F20: =D20-E20 -> 0 | G20: =F20*C20 -> 0
A21: 2 bed/1 bath | B21: 0.5 | F21: =D21-E21 -> 0 | G21: =F21*C21 -> 0
A22: 2bed/1 bath | B22: 0.6 | F22: =D22-E22 -> 0 | G22: =F22*C22 -> 0
A23: 2 bed/1 bath | B23: 0.8 | F23: =D23-E23 -> 0 | G23: =F23*C23 -> 0
A24: 2 bed/1 bath | B24: MKT | F24: =D24-E24 -> 0 | G24: =F24*C24 -> 0
A25: Total 2 BR | C25: =SUM(C20:C24) -> 0 | F25: =SUM(F20:F24) -> 0 | G25: =SUM(G20:G24) -> 0
A26: 3 bed/1-2 bath | B26: 0.3 | F26: =D26-E26 -> 0 | G26: =F26*C26 -> 0
A27: 3 bed/1-2 bath | B27: 0.5 | F27: =D27-E27 -> 0 | G27: =F27*C27 -> 0
A28: 3 bed/1-2 bath | B28: 0.6 | F28: =D28-E28 -> 0 | G28: =F28*C28 -> 0
A29: 3 bed/1-2 bath | B29: 0.8 | F29: =D29-E29 -> 0 | G29: =F29*C29 -> 0
A30: 3 bed/1-2 bath | B30: MKT | F30: =D30-E30 -> 0 | G30: =F30*C30 -> 0
A31: Total 3 BR | C31: =SUM(C26:C30) -> 0 | F31: =SUM(F26:F30) -> 0 | G31: =SUM(G26:G30) -> 0
A32: 4 bed/2 bath | B32: 0.3 | F32: =D32-E32 -> 0 | G32: =F32*C32 -> 0
A33: 4 bed/2 bath | B33: 0.5 | F33: =D33-E33 -> 0 | G33: =F33*C33 -> 0
A34: 4 bed/2 bath | B34: 0.6 | F34: =D34-E34 -> 0 | G34: =F34*C34 -> 0
A35: 4 bed/2 bath | B35: 0.8 | F35: =D35-E35 -> 0 | G35: =F35*C35 -> 0
A36: 4 bed/2 bath | B36: MKT | F36: =D36-E36 -> 0 | G36: =F36*C36 -> 0
A37: Total 4 BR | C37: =SUM(C32:C36) -> 0 | F37: =SUM(F32:F36) -> 0 | G37: =SUM(G32:G36) -> 0
A38: Total Units and Income | C38: =C37+C31+C25+C19 -> 0 | F38: =F19+F25+F31+F37 -> 0 | G38: =G19+G25+G31+G37 -> 0
A40: OTHER INCOME
A41: Source | B41: Annual Income
A42: Laundry | B42: 0
A43: Commercial Income | B43: 0
...

Sheet For-Sale Units
A1: =#REF! -> #REF!
A2: =#REF! -> #REF!
A3: =#REF! -> #REF!
A5: FOR-SALE UNITS | H5: SUMMARY
A6: Bedrooms | B6: % AMI | C6: # of units | D6: Sq. Ft. | E6: Sale Price | F6: Total Sales Revenue | H6: Total # of Units | K6: =SUM(C7:C35) -> 0
A7: 0 Bedroom | B7: 0.6 | F7: =C7*E7 -> 0 | H7: Total LMI Units | K7: =SUM(C7:C23) -> 0
A8: 1 Bedroom | B8: 0.6 | F8: =C8*E8 -> 0 | H8: Total 120% Units | K8: =SUM(C25:C29) -> 0
A9: 2 Bedroom | B9: 0.6 | F9: =C9*E9 -> 0 | H9: Total % Income-Restricted | K9: =(K7+K8)/K6 -> #DIV/0!
A10: 3 Bedroom | B10: 0.6 | F10: =C10*E10 -> 0
A11: 4 Bedroom | B11: 0.6 | F11: =C11*E11 -> 0 | H11: Total Sq. Ft. | K11: =SUMPRODUCT(C7:C35,D7:D35) -> 0
H12: Total Sales Revenue | K12: =SUM(F7:F35)+SUM(M5:M27) -> 0
A13: 0 Bedroom | B13: 0.7 | F13: =C13*E13 -> 0
A14: 1 Bedroom | B14: 0.7 | F14: =C14*E14 -> 0 | H14: 60% AMI Units | K14: =SUM(C7:C11) -> 0
A15: 2 Bedroom | B15: 0.7 | F15: =C15*E15 -> 0 | H15: 70% AMI Units | K15: =SUM(C13:C17) -> 0
A16: 3 Bedroom | B16: 0.7 | F16: =C16*E16 -> 0 | H16: 80% AMI Units | K16: =SUM(C19:C23) -> 0
A17: 4 Bedroom | B17: 0.7 | F17: =C17*E17 -> 0 | H17: 120% AMI Units | K17: =SUM(C25:C29) -> 0
H18: Market Units | K18: =SUM(C31:C35) -> 0
A19: 0 Bedroom | B19: 0.8 | F19: =C19*E19 -> 0
A20: 1 Bedroom | B20: 0.8 | F20: =C20*E20 -> 0
A21: 2 Bedroom | B21: 0.8 | F21: =C21*E21 -> 0
A22: 3 Bedroom | B22: 0.8 | F22: =C22*E22 -> 0
A23: 4 Bedroom | B23: 0.8 | F23: =C23*E23 -> 0
A25: 0 Bedroom | B25: 1.2 | F25: =C25*E25 -> 0
A26: 1 Bedroom | B26: 1.2 | F26: =C26*E26 -> 0
A27: 2 Bedroom | B27: 1.2 | F27: =C27*E27 -> 0
A28: 3 Bedroom | B28: 1.2 | F28: =C28*E28 -> 0
A29: 4 Bedroom | B29: 1.2 | F29: =C29*E29 -> 0
A31: 0 Bedroom | B31: Market | F31: =C31*E31 -> 0
A32: 1 Bedroom | B32: Market | F32: =C32*E32 -> 0
A33: 2 Bedroom | B33: Market | F33: =C33*E33 -> 0
A34: 3 Bedroom | B34: Market | F34: =C34*E34 -> 0
A35: 4 Bedroom | B35: Market | F35: =C35*E35 -> 0
A37: 1) Spreadsheet assumes that all units of a particular AMI and bedroom count will be the same size. If units differ in size, please enter the weighted average size.

Sheet Operating Expenses
A1: ='Unit Mix and Rents'!A1 -> Grand View Rental Housing
A2: ='Unit Mix and Rents'!A2 -> Applicant Name
A5: OPERATING EXPENSES (EDIT LINES AS NEEDED)
A6: Administrative | B6: Annual
A7: Advertising | B7: 0
A8: Other Admin. | B8: 0
A9: Office Salaries | B9: 0
A10: Office Supplies | B10: 0
A11: Management Fee | B11: 0
A12: Manager Salary | B12: 0
A13: Legal & Audit Expenses | B13: 0
A14: Auditing Expenses | B14: 0
A15: Bookkeeping/Acct. | B15: 0
A16: Telephone | B16: 0
A17: Compliance Fee | B17: 0
A18: All Other | B18: 0
A19: Total Adminitrative | B19: =SUM(B7:B18) -> 0
A20: Repairs & Maintenance | B20: Annual
A21: Payroll | B21: 0
A22: Supplies | B22: 0
A23: Contract | B23: 0
A24: Exterminating | B24: 0
A25: Trash Removal | B25: 0
A26: Security Payroll | B26: 0
A27: Vehicle Repairs | B27: 0
A28: Snow Removal | B28: 0
A29: Grounds Contract | B29: 0
A30: Repairs Payroll | B30: 0
A31: Repairs Material | B31: 0
A32: Repairs Contract | B32: 0
... A38: All Other | B38: 0
A39: Total Repairs & Maintenance | B39: =SUM(B21:B38) -> 0
A40: Utilities | B40: Annual
A41: Electricity | B41: 0
A42: Gas | B42: 0
A43: Water | B43: 0
A44: Sewer | B44: 0
A45: Other Utilities
A46: Total Utilities | B46: =SUM(B41:B45) -> 0
A47: Taxes & Insurance | B47: Annual
...

Sheet Development Budget
A1: ='Unit Mix and Rents'!A1 -> Grand View Rental Housing
A2: ='Unit Mix and Rents'!A2 -> Applicant Name
A4: Hard Construction Costs
A5: Site Work
A6: New Structures | B6: 0
A7: Accessory Structures (garages, sheds) | B7: 0
A8: Green Systems (Solar, etc.) | B8: 0
A9: General Requirements | B9: 0
A10: Contractor Overhead | B10: 0
A11: Contractor Profit | B11: 0
A12: Construction Contingency | B12: 0
A13: Furniture, Fixtures, & Equipment | B13: 0
A14: Building Permits | B14: 0
A15: Other (Specify) | B15: 0
A16: Other (Specify) | B16: 0
A17: Other (Specify) | B17: 0
A18: Total Hard Construction Costs | B18: =SUM(B6:B17) -> 0
A19: Construction Interim Costs
A20: Hazard & Liability Insurance | B20: 0
A21: Builder's Risk Insurance | B21: 0
A22: Payment & Performance Bonds | B22: 0
A23: Construction Inspection and Testing
A24: Tap Fees (Water/Sewer) | B24: 0
A25: Impact fees | B25: 0
A26: Power and Telecom Provider fees | B26: 0
A27: Construction Inspection and Testing | B27: 0
A28: Power and Telecom Provider fees | B28: 0
A29: Prop. Taxes During Construction | B29: 0
A30: Other (Specify) | B30: 0
A31: Other (Specify) | B31: 0
A32: Other (Specify) | B32: 0
A33: Total Construction Interim Costs | B33: =SUM(B20:B32) -> 0
A34: Professional Fees/Soft Costs
A35: Architect | B35: 0
A36: Engineering | B36: 0
A37: Geotech | B37: 0
A38: Soils/Surveyor | B38: 0
A39: Legal Fees | B39: 0
A40: Green Consultant | B40: 0
A41: Accounting | B41: 0
...

Sheet Sources and Uses
A1: ='Unit Mix and Rents'!A1 -> Grand View Rental Housing
A2: ='Unit Mix and Rents'!A2 -> Applicant Name
A4: CONSTRUCTION SOURCES AND USES (Costs incurred during construction only)
A5: Sources | B5: Total | C5: Percent of Total | E5: Uses | F5: Total | G5: Percent of Total
A6: Construction Loan | B6: 0 | C6: =IF(B6=0,"",B6/$B$12) | E6: Hard Construction Costs | F6: 0 | G6: =IF(F6=0,"",F6/$F$12)
A7: Other Construction Financing (if any) | B7: 0 | E7: Construction Interim Costs | F7: 0 | G7: =IF(F7=0,"",F7/$F$12)
A8: KYCDBG-DR | B8: 0 | C8: =IF(B8=0,"",B8/$B$22) | E8: Professional Fees/Soft Costs | F8: 0 | G8: =IF(F8=0,"",F8/$F$12)
A9: Other (Specify) | B9: 0 | C9: =IF(B9=0,"",B9/$B$22) | E9: Loan & Financing Fees | F9: 0 | G9: =IF(F9=0,"",F9/$F$12)
A10: Other (Specify) | B10: 0 | C10: =IF(B10=0,"",B10/$B$22) | F10: 0 | G10: =IF(F10=0,"",F10/$F$12)
A11: Other (Specify) | B11: 0 | C11: =IF(B11=0,"",B11/$B$22) | F11: 0 | G11: =IF(F11=0,"",F11/$F$12)
A12: Total | B12: =SUM(B6:B11) -> 0 | C12: =SUM(C6:C11) -> 0 | E12: Total | F12: =SUM(F6:F11) -> 0 | G12: =SUM(G6:G11) -> 0
A14: PERMANENT SOURCES AND USES
A15: Sources | B15: Total | C15: Percent of Total | E15: Uses | F15: Total | G15: Percent of Total
A16: First Mortgage | B16: 0 | C16: =IF(B16=0,"",B16/$B$22) | E16: Hard Construction Costs | F16: 0 | G16: =IF(F16=0,"",F16/$F$22)
A17: Second Mortgage (if any) | B17: 0 | E17: Construction Interim Costs | F17: 0 | G17: =IF(F17=0,"",F17/$F$22)
A18: KYCDBG-DR | B18: 0 | C18: =IF(B18=0,"",B18/$B$22) | E18: Professional Fees/Soft Costs | F18: 0 | G18: =IF(F18=0,"",F18/$F$22)
A19: Other (Specify) | B19: 0 | C19: =IF(B19=0,"",B19/$B$22) | E19: Loan & Financing Fees | F19: 0 | G19: =IF(F19=0,"",F19/$F$22)
A20: Other (Specify) | B20: 0 | C20: =IF(B20=0,"",B20/$B$22) | E20: Developer Fee | F20: 0 | G20: =IF(F20=0,"",F20/$F$22)
A21: Other (Specify) | B21: 0 | C21: =IF(B21=0,"",B21/$B$22) | E21: Reserves | F21: ='Development Budget'!$B$58 -> 0 | G21: =IF(F21=0,"",F21/$F$22)
A22: Total | B22: =SUM(B16:B21) -> 0 | C22: =SUM(C16:C21) -> 0 | E22: Total | F22: =SUM(F16:F21) -> 0 | G22: =SUM(G16:G21) -> 0

Sheet Loans
A1: Grand View Rental Housing
A2: ='Unit Mix and Rents'!A2 -> Applicant Name
A4: INPUT TERMS FROM LENDER COMMITMENT LETTERS
A5: Construction Loan | B5: (Lender Name)
A6: Total Loan Amount | B6: 0
A7: Interest Rate | B7: 0
A8: Amortization (years)
A9: Term (years)
A10: Annual Payments
A12: 1st Mortgage | B12: Lender Name)
A13: Total Loan Amount | B13: 0
A14: Interest Rate | B14: 0
A15: Amortization (years)
A16: Term (years)
A17: Annual Payments
A19: 2nd Mortgage | B19: (Lender Name)
A20: Total Loan Amount | B20: 1000000
A21: Interest Rate | B21: 0
A22: Amortization (years)
A23: Term (years)
A24: Annual Payments

Sheet Project Income Statement 
A1: Grand View Rental Housing
A2: ='Unit Mix and Rents'!A2 -> Applicant Name
A4: 20 YEAR PROFORMA
C5: Year 1 | D5: Year 2 | E5: Year 3 | F5: Year 4 | G5: Year 5 | H5: Year 6 | I5: Year 7 | J5: Year 8 | K5: Year 9 | L5: Year 10 | M5: Year 11 | N5: Year 12 | O5: Year 13 | P5: Year 14 | Q5: Year 15 | R5: Year 16 | S5: Year 17 | T5: Year 18 | U5: Year 19 | V5: Year 20
A6: Income | B6: Escalation
A7: Rental Income | B7: 0.02 | C7: ='Unit Mix and Rents'!G38 -> 0 | D7: =C7*(1+$B7) -> 0 | E7: =D7*(1+$B7) -> 0 | F7: =E7*(1+$B7) -> 0 | G7: =F7*(1+$B7) -> 0 | H7: =G7*(1+$B7) -> 0 | I7: =H7*(1+$B7) -> 0 | J7: =I7*(1+$B7) -> 0 | K7: =J7*(1+$B7) -> 0 | ... V7: =U7*(1+$B7) -> 0
A8: Other Residential Income | B8: 0.02 | C8: ='Unit Mix and Rents'!B48 -> 0 | D8: =C8*(1+$B$7) -> 0 | E8: =D8*(1+$B$7) -> 0 | F8: =E8*(1+$B$7) -> 0 | G8: =F8*(1+$B$7) -> 0 | H8: =G8*(1+$B$7) -> 0 | I8: =H8*(1+$B$7) -> 0 | J8: =I8*(1+$B$7) -> 0 | K8: =J8*(1+$B$7) -> 0 | ... V8: =U8*(1+$B$7) -> 0
A9: Vacancy Allowance | B9: 0.07 | C9: =-$B$9*(C7) -> 0 | D9: =-$B$9*(D7) -> 0 | E9: =-$B$9*(E7) -> 0 | F9: =-$B$9*(F7) -> 0 | G9: =-$B$9*(G7) -> 0 | H9: =-$B$9*(H7) -> 0 | I9: =-$B$9*(I7) -> 0 | J9: =-$B$9*(J7) -> 0 | ... V9: =-$B$9*(V7) -> 0
A10: Gross Residential Income | C10: =SUM(C7:C9) -> 0 | D10: =SUM(D7:D9) -> 0 | E10: =SUM(E7:E9) -> 0 | F10: =SUM(F7:F9) -> 0 | G10: =SUM(G7:G9) -> 0 | H10: =SUM(H7:H9) -> 0 | I10: =SUM(I7:I9) -> 0 | J10: =SUM(J7:J9) -> 0 | ... V10: =SUM(V7:V9) -> 0
A11: Operating Expenses | B11: Escalation
A12: Administrative | B12: 0.03 | C12: ='Operating Expenses'!B19 -> 0 | D12: =C12*(1+$B12) -> 0 | E12: =D12*(1+$B12) -> 0 | F12: =E12*(1+$B12) -> 0 | G12: =F12*(1+$B12) -> 0 | H12: =G12*(1+$B12) -> 0 | I12: =H12*(1+$B12) -> 0 | J12: =I12*(1+$B12) -> 0 | K12: =J12*(1+$B12) -> 0 | ... V12: =U12*(1+$B12) -> 0
A13: Repairs & Maintenance | B13: 0.03 | C13: ='Operating Expenses'!B39 -> 0 | D13: =C13*(1+$B13) -> 0 | E13: =D13*(1+$B13) -> 0 | F13: =E13*(1+$B13) -> 0 | G13: =F13*(1+$B13) -> 0 | H13: =G13*(1+$B13) -> 0 | I13: =H13*(1+$B13) -> 0 | J13: =I13*(1+$B13) -> 0 | K13: =J13*(1+$B13) -> 0 | ... V13: =U13*(1+$B13) -> 0
A14: Utilities | B14: 0.03 | C14: ='Operating Expenses'!B46 -> 0 | D14: =C14*(1+$B14) -> 0 | E14: =D14*(1+$B14) -> 0 | F14: =E14*(1+$B14) -> 0 | G14: =F14*(1+$B14) -> 0 | H14: =G14*(1+$B14) -> 0 | I14: =H14*(1+$B14) -> 0 | J14: =I14*(1+$B14) -> 0 | K14: =J14*(1+$B14) -> 0 | ... V14: =U14*(1+$B14) -> 0
A15: Taxes & Insurance | B15: 0.03 | C15: ='Operating Expenses'!B58 -> 0 | D15: =C15*(1+$B15) -> 0 | E15: =D15*(1+$B15) -> 0 | F15: =E15*(1+$B15) -> 0 | G15: =F15*(1+$B15) -> 0 | H15: =G15*(1+$B15) -> 0 | I15: =H15*(1+$B15) -> 0 | J15: =I15*(1+$B15) -> 0 | K15: =J15*(1+$B15) -> 0 | ... V15: =U15*(1+$B15) -> 0
A16: Social Services | B16: 0.03 | C16: ='Operating Expenses'!B63 -> 0 | D16: =C16*(1+$B16) -> 0 | E16: =D16*(1+$B16) -> 0 | F16: =E16*(1+$B16) -> 0 | G16: =F16*(1+$B16) -> 0 | H16: =G16*(1+$B16) -> 0 | I16: =H16*(1+$B16) -> 0 | J16: =I16*(1+$B16) -> 0 | K16: =J16*(1+$B16) -> 0 | ... V16: =U16*(1+$B16) -> 0
A17: Annual Deposits to Reserves (Edit as needed) | B17: 0.02 | C17: ='Operating Expenses'!B68 -> 0 | D17: =C17*(1+$B17) -> 0 | E17: =D17*(1+$B17) -> 0 | F17: =E17*(1+$B17) -> 0 | G17: =F17*(1+$B17) -> 0 | H17: =G17*(1+$B17) -> 0 | I17: =H17*(1+$B17) -> 0 | J17: =I17*(1+$B17) -> 0 | K17: =J17*(1+$B17) -> 0 | ... V17: =U17*(1+$B17) -> 0
A18: Total Operating Expenses | C18: =SUM(C12:C17) -> 0 | D18: =SUM(D12:D17) -> 0 | E18: =SUM(E12:E17) -> 0 | F18: =SUM(F12:F17) -> 0 | G18: =SUM(G12:G17) -> 0 | H18: =SUM(H12:H17) -> 0 | I18: =SUM(I12:I17) -> 0 | J18: =SUM(J12:J17) -> 0 | ... V18: =SUM(V12:V17) -> 0
A19: Net Operating Income | C19: =C10-C18 -> 0 | D19: =D10-D18 -> 0 | E19: =E10-E18 -> 0 | F19: =F10-F18 -> 0 | G19: =G10-G18 -> 0 | H19: =H10-H18 -> 0 | I19: =I10-I18 -> 0 | J19: =J10-J18 -> 0 | ... V19: =V10-V18 -> 0
A20: Mortgages (must-pay debt)
A21: ='Sources and Uses'!A16 -> First Mortgage | C21: =Loans!$B$17 -> 0 | D21: =$C$21 -> 0 | E21: =$C$21 -> 0 | F21: =$C$21 -> 0 | G21: =$C$21 -> 0 | H21: =$C$21 -> 0 | I21: =$C$21 -> 0 | J21: =$C$21 -> 0 | K21: =$C$21 -> 0 | ... V21: =$C$21 -> 0
A22: ='Sources and Uses'!A17 -> Second Mortgage (if any) | C22: =Loans!$B$24 -> 0 | D22: =$C$22 -> 0 | E22: =$C$22 -> 0 | F22: =$C$22 -> 0 | G22: =$C$22 -> 0 | H22: =$C$22 -> 0 | I22: =$C$22 -> 0 | J22: =$C$22 -> 0 | K22: =$C$22 -> 0 | ... V22: =$C$22 -> 0
A23: Total Debt Service | C23: =SUM(C21:C22) -> 0 | D23: =SUM(D21:D22) -> 0 | E23: =SUM(E21:E22) -> 0 | F23: =SUM(F21:F22) -> 0 | G23: =SUM(G21:G22) -> 0 | H23: =SUM(H21:H22) -> 0 | I23: =SUM(I21:I22) -> 0 | J23: =SUM(J21:J22) -> 0 | ... V23: =SUM(V21:V22) -> 0
A24: Cash Flow after Debt Service | C24: =C19-C23 -> 0 | D24: =D19+D23 -> 0 | E24: =E19+E23 -> 0 | F24: =F19+F23 -> 0 | G24: =G19+G23 -> 0 | H24: =H19+H23 -> 0 | I24: =I19+I23 -> 0 | J24: =J19+J23 -> 0 | K24: =K19+K23 -> 0 | ... V24: =V19+V23 -> 0
A25: Debt Coverage Ratio | C25: =IF(C23=0,"",C19/C23) | D25: =IF(D23=0,"",D19/D23) | E25: =IF(E23=0,"",E19/E23) | F25: =IF(F23=0,"",F19/F23) | G25: =IF(G23=0,"",G19/G23) | H25: =IF(H23=0,"",H19/H23) | I25: =IF(I23=0,"",I19/I23) | J25: =IF(J23=0,"",J19/J23) | ... V25: =IF(V23=0,"",V19/V23)
